BEGIN:VCALENDAR
VERSION:2.0
PRODID:-//| Oakland A’s MLB Baseball Fan Club created &quot;Sell Flag&quot; - ECPv6.3.7//NONSGML v1.0//EN
CALSCALE:GREGORIAN
METHOD:PUBLISH
X-ORIGINAL-URL:https://sellflagtour.com
X-WR-CALDESC:Events for | Oakland A’s MLB Baseball Fan Club created &quot;Sell Flag&quot;
REFRESH-INTERVAL;VALUE=DURATION:PT1H
X-Robots-Tag:noindex
X-PUBLISHED-TTL:PT1H
BEGIN:VTIMEZONE
TZID:UTC
BEGIN:STANDARD
TZOFFSETFROM:+0000
TZOFFSETTO:+0000
TZNAME:UTC
DTSTART:20240101T000000
END:STANDARD
END:VTIMEZONE
BEGIN:VEVENT
DTSTART;VALUE=DATE:20240830
DTEND;VALUE=DATE:20240902
DTSTAMP:20260423T222358
CREATED:20240427T063501Z
LAST-MODIFIED:20240430T000448Z
UID:331-1724976000-1725235199@sellflagtour.com
SUMMARY:Texas Rangers
DESCRIPTION:Series @ Texas Rangers
URL:https://sellflagtour.com/event/texas-rangers/
END:VEVENT
BEGIN:VEVENT
DTSTART;VALUE=DATE:20240910
DTEND;VALUE=DATE:20240913
DTSTAMP:20260423T222358
CREATED:20240427T063640Z
LAST-MODIFIED:20240430T000440Z
UID:333-1725926400-1726185599@sellflagtour.com
SUMMARY:Houston Astros
DESCRIPTION:Series @ Houston Astros
URL:https://sellflagtour.com/event/houston-astros-2/
END:VEVENT
BEGIN:VEVENT
DTSTART;VALUE=DATE:20240913
DTEND;VALUE=DATE:20240916
DTSTAMP:20260423T222358
CREATED:20240427T063750Z
LAST-MODIFIED:20240430T000420Z
UID:335-1726185600-1726444799@sellflagtour.com
SUMMARY:Chicago White Sox
DESCRIPTION:Series @ Chicago White Sox
URL:https://sellflagtour.com/event/chicago-white-sox/
END:VEVENT
BEGIN:VEVENT
DTSTART;VALUE=DATE:20240916
DTEND;VALUE=DATE:20240919
DTSTAMP:20260423T222358
CREATED:20240427T063910Z
LAST-MODIFIED:20240430T000406Z
UID:338-1726444800-1726703999@sellflagtour.com
SUMMARY:Chicago Cubs
DESCRIPTION:Series @ Chicago Cubs
URL:https://sellflagtour.com/event/chicago-cubs/
END:VEVENT
BEGIN:VEVENT
DTSTART;VALUE=DATE:20240927
DTEND;VALUE=DATE:20240930
DTSTAMP:20260423T222358
CREATED:20240427T064129Z
LAST-MODIFIED:20240430T000343Z
UID:340-1727395200-1727654399@sellflagtour.com
SUMMARY:Seattle Mariners
DESCRIPTION:Series @ Seattle Mariners
URL:https://sellflagtour.com/event/seattle-mariners-2/
END:VEVENT
END:VCALENDAR