BEGIN:VCALENDAR
VERSION:2.0
PRODID:-//| Oakland A’s MLB Baseball Fan Club created &quot;Sell Flag&quot; - ECPv6.3.7//NONSGML v1.0//EN
CALSCALE:GREGORIAN
METHOD:PUBLISH
X-ORIGINAL-URL:https://sellflagtour.com
X-WR-CALDESC:Events for | Oakland A’s MLB Baseball Fan Club created &quot;Sell Flag&quot;
REFRESH-INTERVAL;VALUE=DURATION:PT1H
X-Robots-Tag:noindex
X-PUBLISHED-TTL:PT1H
BEGIN:VTIMEZONE
TZID:UTC
BEGIN:STANDARD
TZOFFSETFROM:+0000
TZOFFSETTO:+0000
TZNAME:UTC
DTSTART:20240101T000000
END:STANDARD
END:VTIMEZONE
BEGIN:VEVENT
DTSTART;VALUE=DATE:20240809
DTEND;VALUE=DATE:20240812
DTSTAMP:20260424T004527
CREATED:20240427T063058Z
LAST-MODIFIED:20240430T000521Z
UID:325-1723161600-1723420799@sellflagtour.com
SUMMARY:Toronto Blue Jays
DESCRIPTION:Series @ Toronto Blue Jays
URL:https://sellflagtour.com/event/toronto-blue-jays/
END:VEVENT
BEGIN:VEVENT
DTSTART;VALUE=DATE:20240813
DTEND;VALUE=DATE:20240816
DTSTAMP:20260424T004527
CREATED:20240427T063210Z
LAST-MODIFIED:20240430T000509Z
UID:327-1723507200-1723766399@sellflagtour.com
SUMMARY:New York Mets
DESCRIPTION:Series @ New York Mets
URL:https://sellflagtour.com/event/new-york-mets/
END:VEVENT
BEGIN:VEVENT
DTSTART;VALUE=DATE:20240827
DTEND;VALUE=DATE:20240830
DTSTAMP:20260424T004527
CREATED:20240427T063338Z
LAST-MODIFIED:20240430T000500Z
UID:329-1724716800-1724975999@sellflagtour.com
SUMMARY:Cincinnati Reds
DESCRIPTION:Series @ Cincinnati Reds
URL:https://sellflagtour.com/event/cincinnati-reds/
END:VEVENT
BEGIN:VEVENT
DTSTART;VALUE=DATE:20240830
DTEND;VALUE=DATE:20240902
DTSTAMP:20260424T004527
CREATED:20240427T063501Z
LAST-MODIFIED:20240430T000448Z
UID:331-1724976000-1725235199@sellflagtour.com
SUMMARY:Texas Rangers
DESCRIPTION:Series @ Texas Rangers
URL:https://sellflagtour.com/event/texas-rangers/
END:VEVENT
END:VCALENDAR