BEGIN:VCALENDAR
VERSION:2.0
PRODID:-//| Oakland A’s MLB Baseball Fan Club created &quot;Sell Flag&quot; - ECPv6.3.7//NONSGML v1.0//EN
CALSCALE:GREGORIAN
METHOD:PUBLISH
X-WR-CALNAME:| Oakland A’s MLB Baseball Fan Club created &quot;Sell Flag&quot;
X-ORIGINAL-URL:https://sellflagtour.com
X-WR-CALDESC:Events for | Oakland A’s MLB Baseball Fan Club created &quot;Sell Flag&quot;
REFRESH-INTERVAL;VALUE=DURATION:PT1H
X-Robots-Tag:noindex
X-PUBLISHED-TTL:PT1H
BEGIN:VTIMEZONE
TZID:UTC
BEGIN:STANDARD
TZOFFSETFROM:+0000
TZOFFSETTO:+0000
TZNAME:UTC
DTSTART:20240101T000000
END:STANDARD
END:VTIMEZONE
BEGIN:VEVENT
DTSTART;VALUE=DATE:20240510
DTEND;VALUE=DATE:20240513
DTSTAMP:20260422T220707
CREATED:20240426T192438Z
LAST-MODIFIED:20240430T000829Z
UID:279-1715299200-1715558399@sellflagtour.com
SUMMARY:Seattle Mariners
DESCRIPTION:Series @ in Seattle
URL:https://sellflagtour.com/event/seattle-mariners/
END:VEVENT
END:VCALENDAR