BEGIN:VCALENDAR
VERSION:2.0
PRODID:-//| Oakland A’s MLB Baseball Fan Club created &quot;Sell Flag&quot; - ECPv6.3.7//NONSGML v1.0//EN
CALSCALE:GREGORIAN
METHOD:PUBLISH
X-WR-CALNAME:| Oakland A’s MLB Baseball Fan Club created &quot;Sell Flag&quot;
X-ORIGINAL-URL:https://sellflagtour.com
X-WR-CALDESC:Events for | Oakland A’s MLB Baseball Fan Club created &quot;Sell Flag&quot;
REFRESH-INTERVAL;VALUE=DURATION:PT1H
X-Robots-Tag:noindex
X-PUBLISHED-TTL:PT1H
BEGIN:VTIMEZONE
TZID:UTC
BEGIN:STANDARD
TZOFFSETFROM:+0000
TZOFFSETTO:+0000
TZNAME:UTC
DTSTART:20240101T000000
END:STANDARD
END:VTIMEZONE
BEGIN:VEVENT
DTSTART;VALUE=DATE:20240827
DTEND;VALUE=DATE:20240830
DTSTAMP:20260422T220239
CREATED:20240427T063338Z
LAST-MODIFIED:20240430T000500Z
UID:329-1724716800-1724975999@sellflagtour.com
SUMMARY:Cincinnati Reds
DESCRIPTION:Series @ Cincinnati Reds
URL:https://sellflagtour.com/event/cincinnati-reds/
END:VEVENT
BEGIN:VEVENT
DTSTART;VALUE=DATE:20240813
DTEND;VALUE=DATE:20240816
DTSTAMP:20260422T220239
CREATED:20240427T063210Z
LAST-MODIFIED:20240430T000509Z
UID:327-1723507200-1723766399@sellflagtour.com
SUMMARY:New York Mets
DESCRIPTION:Series @ New York Mets
URL:https://sellflagtour.com/event/new-york-mets/
END:VEVENT
BEGIN:VEVENT
DTSTART;VALUE=DATE:20240809
DTEND;VALUE=DATE:20240812
DTSTAMP:20260422T220239
CREATED:20240427T063058Z
LAST-MODIFIED:20240430T000521Z
UID:325-1723161600-1723420799@sellflagtour.com
SUMMARY:Toronto Blue Jays
DESCRIPTION:Series @ Toronto Blue Jays
URL:https://sellflagtour.com/event/toronto-blue-jays/
END:VEVENT
BEGIN:VEVENT
DTSTART;VALUE=DATE:20240730
DTEND;VALUE=DATE:20240801
DTSTAMP:20260422T220239
CREATED:20240427T062830Z
LAST-MODIFIED:20240430T000533Z
UID:323-1722297600-1722470399@sellflagtour.com
SUMMARY:San Francisco Giants
DESCRIPTION:Series @ San Francisco Giants
URL:https://sellflagtour.com/event/san-francisco-giants/
END:VEVENT
BEGIN:VEVENT
DTSTART;VALUE=DATE:20240725
DTEND;VALUE=DATE:20240729
DTSTAMP:20260422T220239
CREATED:20240427T062616Z
LAST-MODIFIED:20240430T000543Z
UID:320-1721865600-1722211199@sellflagtour.com
SUMMARY:Los Angeles Angels
DESCRIPTION:Series @ Los Angeles Angels
URL:https://sellflagtour.com/event/los-angeles-angels-2/
END:VEVENT
BEGIN:VEVENT
DTSTART;VALUE=DATE:20240716
DTEND;VALUE=DATE:20240717
DTSTAMP:20260422T220239
CREATED:20240427T062432Z
LAST-MODIFIED:20240430T000557Z
UID:318-1721088000-1721174399@sellflagtour.com
SUMMARY:All-Star Game
DESCRIPTION:MLB All-Star Game
URL:https://sellflagtour.com/event/all-star-game/
END:VEVENT
BEGIN:VEVENT
DTSTART;VALUE=DATE:20240712
DTEND;VALUE=DATE:20240715
DTSTAMP:20260422T220239
CREATED:20240427T062216Z
LAST-MODIFIED:20240430T000608Z
UID:316-1720742400-1721001599@sellflagtour.com
SUMMARY:Philadelphia Phillies
DESCRIPTION:Series @ Philadelphia Phillies
URL:https://sellflagtour.com/event/philadelphia-phillies/
END:VEVENT
BEGIN:VEVENT
DTSTART;VALUE=DATE:20240709
DTEND;VALUE=DATE:20240712
DTSTAMP:20260422T220239
CREATED:20240427T061945Z
LAST-MODIFIED:20240430T000616Z
UID:314-1720483200-1720742399@sellflagtour.com
SUMMARY:Boston Red Sox
DESCRIPTION:Series @ Boston Red Sox
URL:https://sellflagtour.com/event/boston-red-sox/
END:VEVENT
BEGIN:VEVENT
DTSTART;VALUE=DATE:20240628
DTEND;VALUE=DATE:20240701
DTSTAMP:20260422T220239
CREATED:20240427T061737Z
LAST-MODIFIED:20240430T000630Z
UID:312-1719532800-1719791999@sellflagtour.com
SUMMARY:Arizona Diamondbacks
DESCRIPTION:Series @ Arizona Diamondbacks
URL:https://sellflagtour.com/event/arizona-diamondbacks/
END:VEVENT
BEGIN:VEVENT
DTSTART;VALUE=DATE:20240624
DTEND;VALUE=DATE:20240627
DTSTAMP:20260422T220239
CREATED:20240427T061530Z
LAST-MODIFIED:20240430T000638Z
UID:309-1719187200-1719446399@sellflagtour.com
SUMMARY:Los Angeles Angels
DESCRIPTION:Series @ Angeles Angels
URL:https://sellflagtour.com/event/los-angeles-angels/
END:VEVENT
BEGIN:VEVENT
DTSTART;VALUE=DATE:20240613
DTEND;VALUE=DATE:20240617
DTSTAMP:20260422T220239
CREATED:20240427T061342Z
LAST-MODIFIED:20240430T000648Z
UID:307-1718236800-1718582399@sellflagtour.com
SUMMARY:Minnesota Twins
DESCRIPTION:Series @ Minnesota Twins
URL:https://sellflagtour.com/event/minnesota-twins-2/
END:VEVENT
BEGIN:VEVENT
DTSTART;VALUE=DATE:20240610
DTEND;VALUE=DATE:20240613
DTSTAMP:20260422T220239
CREATED:20240426T195039Z
LAST-MODIFIED:20240430T000658Z
UID:290-1717977600-1718236799@sellflagtour.com
SUMMARY:San Diego Padres
DESCRIPTION:Series @ San Diego Padres
URL:https://sellflagtour.com/event/san-diego-padres/
END:VEVENT
BEGIN:VEVENT
DTSTART;VALUE=DATE:20240531
DTEND;VALUE=DATE:20240603
DTSTAMP:20260422T220239
CREATED:20240426T194156Z
LAST-MODIFIED:20240430T000812Z
UID:287-1717113600-1717372799@sellflagtour.com
SUMMARY:Atlanta Braves
DESCRIPTION:Series @ Atlanta Braves
URL:https://sellflagtour.com/event/atlanta-braves/
END:VEVENT
BEGIN:VEVENT
DTSTART;VALUE=DATE:20240517
DTEND;VALUE=DATE:20240520
DTSTAMP:20260422T220239
CREATED:20240426T193950Z
LAST-MODIFIED:20240430T000708Z
UID:285-1715904000-1716163199@sellflagtour.com
SUMMARY:Kansas City Royals
DESCRIPTION:Series @ Kansas City Royals
URL:https://sellflagtour.com/event/kansas-city-royals/
END:VEVENT
BEGIN:VEVENT
DTSTART;VALUE=DATE:20240513
DTEND;VALUE=DATE:20240517
DTSTAMP:20260422T220239
CREATED:20240426T193733Z
LAST-MODIFIED:20240430T000725Z
UID:283-1715558400-1715903999@sellflagtour.com
SUMMARY:Houston Astros
DESCRIPTION:Series @ Houston Astros
URL:https://sellflagtour.com/event/houston-astros/
END:VEVENT
BEGIN:VEVENT
DTSTART;VALUE=DATE:20240510
DTEND;VALUE=DATE:20240513
DTSTAMP:20260422T220239
CREATED:20240426T192438Z
LAST-MODIFIED:20240430T000829Z
UID:279-1715299200-1715558399@sellflagtour.com
SUMMARY:Seattle Mariners
DESCRIPTION:Series @ in Seattle
URL:https://sellflagtour.com/event/seattle-mariners/
END:VEVENT
END:VCALENDAR