BEGIN:VCALENDAR
VERSION:2.0
PRODID:-//| Oakland A’s MLB Baseball Fan Club created &quot;Sell Flag&quot; - ECPv6.3.7//NONSGML v1.0//EN
CALSCALE:GREGORIAN
METHOD:PUBLISH
X-WR-CALNAME:| Oakland A’s MLB Baseball Fan Club created &quot;Sell Flag&quot;
X-ORIGINAL-URL:https://sellflagtour.com
X-WR-CALDESC:Events for | Oakland A’s MLB Baseball Fan Club created &quot;Sell Flag&quot;
REFRESH-INTERVAL;VALUE=DURATION:PT1H
X-Robots-Tag:noindex
X-PUBLISHED-TTL:PT1H
BEGIN:VTIMEZONE
TZID:UTC
BEGIN:STANDARD
TZOFFSETFROM:+0000
TZOFFSETTO:+0000
TZNAME:UTC
DTSTART:20240101T000000
END:STANDARD
END:VTIMEZONE
BEGIN:VEVENT
DTSTART;VALUE=DATE:20240916
DTEND;VALUE=DATE:20240919
DTSTAMP:20260424T004028
CREATED:20240427T063910Z
LAST-MODIFIED:20240430T000406Z
UID:338-1726444800-1726703999@sellflagtour.com
SUMMARY:Chicago Cubs
DESCRIPTION:Series @ Chicago Cubs
URL:https://sellflagtour.com/event/chicago-cubs/
END:VEVENT
END:VCALENDAR